BEGIN:VCALENDAR
VERSION:2.0
PRODID:-//Jester Hill Wines - ECPv6.5.1.5//NONSGML v1.0//EN
CALSCALE:GREGORIAN
METHOD:PUBLISH
X-WR-CALNAME:Jester Hill Wines
X-ORIGINAL-URL:https://jesterhillwines.com.au
X-WR-CALDESC:Events for Jester Hill Wines
REFRESH-INTERVAL;VALUE=DURATION:PT1H
X-Robots-Tag:noindex
X-PUBLISHED-TTL:PT1H
BEGIN:VTIMEZONE
TZID:Australia/Brisbane
BEGIN:STANDARD
TZOFFSETFROM:+1000
TZOFFSETTO:+1000
TZNAME:AEST
DTSTART:20240101T000000
END:STANDARD
END:VTIMEZONE
BEGIN:VEVENT
DTSTART;TZID=Australia/Brisbane:20240427T110000
DTEND;TZID=Australia/Brisbane:20240427T180000
DTSTAMP:20260421T134123
CREATED:20240126T042215Z
LAST-MODIFIED:20240126T061451Z
UID:21672-1714215600-1714240800@jesterhillwines.com.au
SUMMARY:Granite Rockin' Blues 2024
DESCRIPTION:Join us in supporting some amazing talent and help us support our local QRFS at Jester Hill Wines.  \nWe have some exciting bands playing at the event this year including Kim Connors (operating theatre nurse by day and musician by night)\, Chris Costello and His Hedonic Orchestra and Mitch King\, along with festival favourites Cole Train and Blues Dogs. The bands will keep the music going from 11am to 6pm\, sometimes ëjammingí together but always entertaining. \nTickets are $45 each (under 14years $10 to cover donation) which includes a glass of wine on arrival and entertainment. $10 from every ticket sold will be donated to the Glen Aplin Rural Fire Brigade. \nBYO nibbles with water\, soft drinks\, beer and wine available for purchase on the day.  \nWe hope to see you at Jester Hill Wines for the 2024 Granite Rockin’ Blues. \nBOOK YOUR TICKETS HERE.
URL:https://jesterhillwines.com.au/index.php/event/granite-rockin-blues-2024/
LOCATION:Jester Hill Wines\, 292 Mount Stirling Road\, Glen Aplin\, QLD\, 4380\, Australia
CATEGORIES:Music Event
ATTACH;FMTTYPE=image/jpeg:https://jesterhillwines.com.au/wp-content/uploads/2024/01/humanitix_banner_2024.jpg
ORGANIZER;CN="Jester Hill Wines":MAILTO:cu@jesterhillwines.com.au
END:VEVENT
END:VCALENDAR